BEGIN:VCALENDAR
VERSION:2.0
PRODID:-//Stichting Natuurcentrum Ockenburgh - ECPv6.15.16//NONSGML v1.0//EN
CALSCALE:GREGORIAN
METHOD:PUBLISH
X-WR-CALNAME:Stichting Natuurcentrum Ockenburgh
X-ORIGINAL-URL:https://natuurcentrumockenburgh.nl
X-WR-CALDESC:Evenementen voor Stichting Natuurcentrum Ockenburgh
REFRESH-INTERVAL;VALUE=DURATION:PT1H
X-Robots-Tag:noindex
X-PUBLISHED-TTL:PT1H
BEGIN:VTIMEZONE
TZID:UTC
BEGIN:STANDARD
TZOFFSETFROM:+0000
TZOFFSETTO:+0000
TZNAME:UTC
DTSTART:20250101T000000
END:STANDARD
END:VTIMEZONE
BEGIN:VEVENT
DTSTART;TZID=UTC:20260425T090000
DTEND;TZID=UTC:20260425T100000
DTSTAMP:20260421T133041
CREATED:20260226T133106Z
LAST-MODIFIED:20260306T190818Z
UID:816-1777107600-1777111200@natuurcentrumockenburgh.nl
SUMMARY:Lekker wakker worden met yoga & ontbijt
DESCRIPTION:Begin je zaterdag op een manier die je lichaam\, geest en zintuigen voedt. Afwisselend bieden we een yogasessie of een ademwerk sessie aan\, twee krachtige manieren om je energie te richten\, je focus te verdiepen en je verbonden te voelen met jezelf en de wereld om je heen. \n\n\nIn de Heemtuin bewegen we mee met de elementen. Of het nu fris is of zonnig\, de natuur vormt altijd de inspirerende achtergrond voor onze sessies. Tijdens de yoga verkennen we soepelheid en kracht\, terwijl we ons laten dragen door de geluiden en geuren om ons heen. In de ademwerk sessies leren we hoe bewuste ademhaling ons kan helpen om spanning los te laten\, onze energie te balanceren en dieper contact te maken met onze innerlijke rust. \n\n\nDe sessies duren een uur\, van 9:00 tot 10:00\, en vinden plaats in de Heemtuin. Bij mooi weer genieten we van de buitenlucht\, en bij minder weer schuiven we naar binnen. Na afloop wacht een heerlijk ontbijt bij Het restaurant van Pluk\, zodat je de dag kunt beginnen met een verzorgd lichaam en een tevreden geest. Ervaring met yoga of ademwerk is niet nodig en de lessen worden gegeven door Rachel van Helder Yoga. De prijs is €35\,-per sessie inclusief ontbijt en materialen. \nOntwaken met de natuur! Kom en ervaar hoe een ochtendritueel je dag een nieuwe dimensie kan geven.
URL:https://natuurcentrumockenburgh.nl/event/lekker-wakker-worden-met-yoga-of-ademwerk-ontbijt-3/
LOCATION:Het restaurant van Pluk\, Loosduinse Hoofdstraat 1184A\, Den Haag\, Zuid Holland\, 2552AH\, Netherlands
CATEGORIES:Beweging & Natuur
ATTACH;FMTTYPE=image/jpeg:https://natuurcentrumockenburgh.nl/wp-content/uploads/2026/02/KnappieRachel33-scaled.jpg
END:VEVENT
BEGIN:VEVENT
DTSTART;TZID=UTC:20260429T140000
DTEND;TZID=UTC:20260429T160000
DTSTAMP:20260421T133041
CREATED:20260226T132828Z
LAST-MODIFIED:20260306T184808Z
UID:811-1777471200-1777478400@natuurcentrumockenburgh.nl
SUMMARY:Mind Walk voor kinderen
DESCRIPTION:Ga mee op een avontuurlijke ontdekkingstocht door de natuur onder begeleiding van mind walk trainer (gecertificeerd) Daphne Wijnstok. Tijdens deze Mind-Walk voor kinderen (5-10 jaar) wisselen we wandelen af met speelse oefeningen: we rekken als een kat\, vliegen als een vogel en speuren door het groen. Het is een actieve manier om uit je hoofd te komen en weer echt te voelen\, te ruiken en te ervaren wat er om je heen gebeurt. \nIn een serie van tien thema’s bouwen we stap voor stap op van inspanning naar ontspanning en balans. Je leert aanwezig te zijn in het moment\, waardoor je gedachten rustiger worden en er ruimte ontstaat voor nieuwe creativiteit. Na deze wandeling voelt je hoofd leger\, je lichaam fitter en sta je weer in krachtige verbinding met jezelf en de natuur. \nTijdens deze workshop op 29 april geeft Thom Olschansky een klankbeleving voor kids! De zintuigen worden geactiveerd.
URL:https://natuurcentrumockenburgh.nl/event/mind-walk-voor-kinderen-6/
LOCATION:Het restaurant van Pluk\, Loosduinse Hoofdstraat 1184A\, Den Haag\, Zuid Holland\, 2552AH\, Netherlands
CATEGORIES:Beweging & Natuur
ATTACH;FMTTYPE=image/jpeg:https://natuurcentrumockenburgh.nl/wp-content/uploads/2026/02/Daphne_kidsworkshop.jpeg
END:VEVENT
END:VCALENDAR