BEGIN:VCALENDAR
VERSION:2.0
PRODID:-//Stichting Natuurcentrum Ockenburgh - ECPv6.15.16//NONSGML v1.0//EN
CALSCALE:GREGORIAN
METHOD:PUBLISH
X-WR-CALNAME:Stichting Natuurcentrum Ockenburgh
X-ORIGINAL-URL:https://natuurcentrumockenburgh.nl
X-WR-CALDESC:Evenementen voor Stichting Natuurcentrum Ockenburgh
REFRESH-INTERVAL;VALUE=DURATION:PT1H
X-Robots-Tag:noindex
X-PUBLISHED-TTL:PT1H
BEGIN:VTIMEZONE
TZID:UTC
BEGIN:STANDARD
TZOFFSETFROM:+0000
TZOFFSETTO:+0000
TZNAME:UTC
DTSTART:20250101T000000
END:STANDARD
END:VTIMEZONE
BEGIN:VEVENT
DTSTART;TZID=UTC:20260606T140000
DTEND;TZID=UTC:20260606T160000
DTSTAMP:20260421T184552
CREATED:20260421T145730Z
LAST-MODIFIED:20260421T145730Z
UID:1190-1780754400-1780761600@natuurcentrumockenburgh.nl
SUMMARY:Botanische inkt en waterverf maken
DESCRIPTION:Hou je van planten en schilderen? In deze workshop leer je hoe je je eigen botanische inkt en aquarelverf kunt maken van bloemen\, bladeren\, bessen. We creëren een compleet kleurpalet\, klaar voor gebruik om te tekenen en schilderen. \nOntwerper en docent Ina Salarich geeft workshops over het gebruik van natuurlijke pigmenten en het maken van botanische illustraties. Ze heeft een verftuin in Den Haag\, waar ze planten kweekt om botanische kunstmaterialen van te maken. \nDeze workshop onderzoekt onze band met de natuur door middel van onze creativiteit\, verbeelding\, en expressie. De workshop is geschikt voor beginners en gevorderden en is inclusief divers teken en schildermateriaal. \nWat neem je mee na afloop?  \n\nNieuwe kennis en inzicht\nPraktische vaardigheden\nVersterkte verbinding met natuur\nInspiratie voor het dagelijks leven
URL:https://natuurcentrumockenburgh.nl/event/botanische-inkt-en-waterverf-maken-2/
LOCATION:Het restaurant van Pluk\, Loosduinse Hoofdstraat 1184A\, Den Haag\, Zuid Holland\, 2552AH\, Netherlands
CATEGORIES:Kunst & Cultuur
ATTACH;FMTTYPE=image/jpeg:https://natuurcentrumockenburgh.nl/wp-content/uploads/2026/02/botanical-ink-painting.jpg
END:VEVENT
BEGIN:VEVENT
DTSTART;TZID=UTC:20260725T100000
DTEND;TZID=UTC:20260725T120000
DTSTAMP:20260421T184552
CREATED:20260421T145935Z
LAST-MODIFIED:20260421T145935Z
UID:1192-1784973600-1784980800@natuurcentrumockenburgh.nl
SUMMARY:Botanische inkt en waterverf maken
DESCRIPTION:Hou je van planten en schilderen? In deze workshop leer je hoe je je eigen botanische inkt en aquarelverf kunt maken van bloemen\, bladeren\, bessen. We creëren een compleet kleurpalet\, klaar voor gebruik om te tekenen en schilderen. \nOntwerper en docent Ina Salarich geeft workshops over het gebruik van natuurlijke pigmenten en het maken van botanische illustraties. Ze heeft een verftuin in Den Haag\, waar ze planten kweekt om botanische kunstmaterialen van te maken. \nDeze workshop onderzoekt onze band met de natuur door middel van onze creativiteit\, verbeelding\, en expressie. De workshop is geschikt voor beginners en gevorderden en is inclusief divers teken en schildermateriaal. \nWat neem je mee na afloop?  \n\nNieuwe kennis en inzicht\nPraktische vaardigheden\nVersterkte verbinding met natuur\nInspiratie voor het dagelijks leven
URL:https://natuurcentrumockenburgh.nl/event/botanische-inkt-en-waterverf-maken-3/
LOCATION:Het restaurant van Pluk\, Loosduinse Hoofdstraat 1184A\, Den Haag\, Zuid Holland\, 2552AH\, Netherlands
CATEGORIES:Kunst & Cultuur
ATTACH;FMTTYPE=image/jpeg:https://natuurcentrumockenburgh.nl/wp-content/uploads/2026/02/botanical-ink-painting.jpg
END:VEVENT
END:VCALENDAR