BEGIN:VCALENDAR
VERSION:2.0
PRODID:-//Stichting Natuurcentrum Ockenburgh - ECPv6.15.16//NONSGML v1.0//EN
CALSCALE:GREGORIAN
METHOD:PUBLISH
X-WR-CALNAME:Stichting Natuurcentrum Ockenburgh
X-ORIGINAL-URL:https://natuurcentrumockenburgh.nl
X-WR-CALDESC:Evenementen voor Stichting Natuurcentrum Ockenburgh
REFRESH-INTERVAL;VALUE=DURATION:PT1H
X-Robots-Tag:noindex
X-PUBLISHED-TTL:PT1H
BEGIN:VTIMEZONE
TZID:UTC
BEGIN:STANDARD
TZOFFSETFROM:+0000
TZOFFSETTO:+0000
TZNAME:UTC
DTSTART:20250101T000000
END:STANDARD
END:VTIMEZONE
BEGIN:VEVENT
DTSTART;TZID=UTC:20260502T103000
DTEND;TZID=UTC:20260502T120000
DTSTAMP:20260422T000448
CREATED:20260312T144829Z
LAST-MODIFIED:20260312T144829Z
UID:1123-1777717800-1777723200@natuurcentrumockenburgh.nl
SUMMARY:De Kracht van de Natuur – Essentiële Oliën
DESCRIPTION:In deze workshop ontdek je niet alleen wat essentiële oliën zijn\, maar ervaar je ook hoe de pure kracht van de natuur op een eenvoudige en praktische manier meer onderdeel kan worden van je dagelijks leven. We nemen je mee in de wereld van 100% pure plantenextracten\, zoals lavendel\, pepermunt en wilde sinaasappel\, en laten zien hoe deze al duizenden jaren worden gebruikt ter ondersteuning van herstel\, ontspanning en welzijn.\n\n\nTijdens de workshop leer je de meest gebruikte oliën kennen\, wat hun werking is en hoe je ze op een natuurlijke manier kunt toepassen in je eigen leven. Het gaat daarbij niet alleen om kennis\, maar juist ook om bewust ervaren: ruiken\, voelen en ontdekken wat de natuur voor jou kan betekenen. We schenken verse kruidenthee en aan het einde krijg je een klein proefpakketje mee met drie veelgebruikte oliën\, zodat je thuis zelf verder kunt ervaren hoe natuur je kan ondersteunen in rust\, balans en gezondheid.
URL:https://natuurcentrumockenburgh.nl/event/de-kracht-van-de-natuur-essentiele-olien-3/
LOCATION:Het restaurant van Pluk\, Loosduinse Hoofdstraat 1184A\, Den Haag\, Zuid Holland\, 2552AH\, Netherlands
CATEGORIES:Voeding & Gezondheid
ATTACH;FMTTYPE=image/jpeg:https://natuurcentrumockenburgh.nl/wp-content/uploads/2026/02/IMG_9308-rotated.jpg
END:VEVENT
BEGIN:VEVENT
DTSTART;TZID=UTC:20260516T103000
DTEND;TZID=UTC:20260516T120000
DTSTAMP:20260422T000448
CREATED:20260417T110240Z
LAST-MODIFIED:20260417T110240Z
UID:1178-1778927400-1778932800@natuurcentrumockenburgh.nl
SUMMARY:De Kracht van de Natuur – Essentiële Oliën
DESCRIPTION:In deze workshop ontdek je niet alleen wat essentiële oliën zijn\, maar ervaar je ook hoe de pure kracht van de natuur op een eenvoudige en praktische manier meer onderdeel kan worden van je dagelijks leven. We nemen je mee in de wereld van 100% pure plantenextracten\, zoals lavendel\, pepermunt en wilde sinaasappel\, en laten zien hoe deze al duizenden jaren worden gebruikt ter ondersteuning van herstel\, ontspanning en welzijn.\n\n\nTijdens de workshop leer je de meest gebruikte oliën kennen\, wat hun werking is en hoe je ze op een natuurlijke manier kunt toepassen in je eigen leven. Het gaat daarbij niet alleen om kennis\, maar juist ook om bewust ervaren: ruiken\, voelen en ontdekken wat de natuur voor jou kan betekenen. We schenken verse kruidenthee en aan het einde krijg je een klein proefpakketje mee met drie veelgebruikte oliën\, zodat je thuis zelf verder kunt ervaren hoe natuur je kan ondersteunen in rust\, balans en gezondheid.
URL:https://natuurcentrumockenburgh.nl/event/de-kracht-van-de-natuur-essentiele-olien-4/
LOCATION:Het restaurant van Pluk\, Loosduinse Hoofdstraat 1184A\, Den Haag\, Zuid Holland\, 2552AH\, Netherlands
CATEGORIES:Voeding & Gezondheid
ATTACH;FMTTYPE=image/jpeg:https://natuurcentrumockenburgh.nl/wp-content/uploads/2026/02/IMG_9308-rotated.jpg
END:VEVENT
END:VCALENDAR