BEGIN:VCALENDAR
VERSION:2.0
PRODID:-//Stichting Natuurcentrum Ockenburgh - ECPv6.15.16//NONSGML v1.0//EN
CALSCALE:GREGORIAN
METHOD:PUBLISH
X-ORIGINAL-URL:https://natuurcentrumockenburgh.nl
X-WR-CALDESC:Evenementen voor Stichting Natuurcentrum Ockenburgh
REFRESH-INTERVAL;VALUE=DURATION:PT1H
X-Robots-Tag:noindex
X-PUBLISHED-TTL:PT1H
BEGIN:VTIMEZONE
TZID:UTC
BEGIN:STANDARD
TZOFFSETFROM:+0000
TZOFFSETTO:+0000
TZNAME:UTC
DTSTART:20250101T000000
END:STANDARD
END:VTIMEZONE
BEGIN:VEVENT
DTSTART;TZID=UTC:20260328T090000
DTEND;TZID=UTC:20260328T100000
DTSTAMP:20260421T170257
CREATED:20260224T153334Z
LAST-MODIFIED:20260306T190459Z
UID:750-1774688400-1774692000@natuurcentrumockenburgh.nl
SUMMARY:Lekker wakker worden met yoga & ontbijt
DESCRIPTION:Begin je zaterdag op een manier die je lichaam\, geest en zintuigen voedt. Afwisselend bieden we een yogasessie of een ademwerk sessie aan\, twee krachtige manieren om je energie te richten\, je focus te verdiepen en je verbonden te voelen met jezelf en de wereld om je heen. \n\n\nIn de Heemtuin bewegen we mee met de elementen. Of het nu fris is of zonnig\, de natuur vormt altijd de inspirerende achtergrond voor onze sessies. Tijdens de yoga verkennen we soepelheid en kracht\, terwijl we ons laten dragen door de geluiden en geuren om ons heen. In de ademwerk sessies leren we hoe bewuste ademhaling ons kan helpen om spanning los te laten\, onze energie te balanceren en dieper contact te maken met onze innerlijke rust. \n\n\nDe sessies duren een uur\, van 9:00 tot 10:00\, en vinden plaats in de Heemtuin. Bij mooi weer genieten we van de buitenlucht\, en bij minder weer schuiven we naar binnen. Na afloop wacht een heerlijk ontbijt bij Het restaurant van Pluk\, zodat je de dag kunt beginnen met een verzorgd lichaam en een tevreden geest. Ervaring met yoga of ademwerk is niet nodig en de lessen worden gegeven door Rachel van Helder Yoga. De prijs is €35\,-per sessie inclusief ontbijt en materialen. \nOntwaken met de natuur! Kom en ervaar hoe een ochtendritueel je dag een nieuwe dimensie kan geven.
URL:https://natuurcentrumockenburgh.nl/event/lekker-wakker-worden-met-yoga-of-ademwerk-ontbijt/
LOCATION:Het restaurant van Pluk\, Loosduinse Hoofdstraat 1184A\, Den Haag\, Zuid Holland\, 2552AH\, Netherlands
CATEGORIES:Beweging & Natuur
ATTACH;FMTTYPE=image/jpeg:https://natuurcentrumockenburgh.nl/wp-content/uploads/2026/02/KnappieRachel33-scaled.jpg
END:VEVENT
BEGIN:VEVENT
DTSTART;TZID=UTC:20260328T103000
DTEND;TZID=UTC:20260328T123000
DTSTAMP:20260421T170257
CREATED:20260226T132234Z
LAST-MODIFIED:20260306T190957Z
UID:787-1774693800-1774701000@natuurcentrumockenburgh.nl
SUMMARY:Pluk en Proef drankenworkshop
DESCRIPTION:Met de Pluk en Proef workshop nemen chef Fleur Driessen en kunstenaar en wildplukker Sabine Rovers je mee op een culinair avontuur door de Haagse wildernis. We leren de rijkdom aan planten en smaken kennen die in het wild te vinden zijn en hoe we deze planten in de keuken kunnen gebruiken. Sabine vertelt de vergeten folklore verhalen en de wildpluk ethiek en met Fleur bereiden we samen met de vondsten een paar lekkere en vernieuwende drankjes. Denk aan sprite van dennennaalden\, helende kruidensiroop of magnolia thee. Met deze wilde smaken kan je je familie en vrienden thuis verrassen! \nNa deze workshop zie je jouw natuurlijke omgeving niet meer als een groen decor\, maar als een wereld vol eetbare planten die wij mogen gebruiken. Mits wij met liefde en respect met ze omgaan. Wildplukken gaat namelijk niet alleen over gratis eten vinden\, het gaat ook over herverbinden met de natuur. Over stil zijn en ons weer verwonderen voor alles wat er al is. Over anders kijken en vanuit een nieuw perspectief zien dat wij deel zijn van de natuur en daar zorg voor dragen. Dat is uiteindelijk onze missie! \nKom jij ook mee op deze zintuigen-prikkelende\, leerzame en verbindende ontdekkingstocht door de natuur?
URL:https://natuurcentrumockenburgh.nl/event/pluk-en-proef-drankenworkshop/
LOCATION:Het restaurant van Pluk\, Loosduinse Hoofdstraat 1184A\, Den Haag\, Zuid Holland\, 2552AH\, Netherlands
CATEGORIES:Voeding & Gezondheid
ATTACH;FMTTYPE=image/jpeg:https://natuurcentrumockenburgh.nl/wp-content/uploads/2026/02/IMG_6142_Fleur-scaled.jpeg
END:VEVENT
END:VCALENDAR